BEGIN:VCALENDAR
VERSION:2.0
PRODID:-//ChamberMaster//Event Calendar 2.0//EN
METHOD:PUBLISH
X-PUBLISHED-TTL:P3D
REFRESH-INTERVAL:P3D
CALSCALE:GREGORIAN
BEGIN:VEVENT
DTSTART:20220825T230000Z
DTEND:20220826T010000Z
X-MICROSOFT-CDO-ALLDAYEVENT:FALSE
SUMMARY:Business-After-Hours with Alex Sellers Media
DESCRIPTION:If you own or manage a business\, you will want to check out what all Alex Sellers Media has to offer.
X-ALT-DESC;FMTTYPE=text/html:If you own or manage a business\, you will want to check out what all Alex Sellers Media has to offer.
LOCATION:Pizza Grocery
UID:e.587.164
SEQUENCE:3
DTSTAMP:20260424T145720Z
URL:https://members.corinthalliance.com/events/details/business-after-hours-with-alex-sellers-media-164
END:VEVENT

END:VCALENDAR
